BEGIN:VCALENDAR
VERSION:2.0
PRODID:-//Waterfront Lab - ECPv6.15.10//NONSGML v1.0//EN
CALSCALE:GREGORIAN
METHOD:PUBLISH
X-ORIGINAL-URL:https://waterfrontlab.com
X-WR-CALDESC:Events for Waterfront Lab
REFRESH-INTERVAL;VALUE=DURATION:PT1H
X-Robots-Tag:noindex
X-PUBLISHED-TTL:PT1H
BEGIN:VTIMEZONE
TZID:UTC
BEGIN:STANDARD
TZOFFSETFROM:+0000
TZOFFSETTO:+0000
TZNAME:UTC
DTSTART:20160101T000000
END:STANDARD
END:VTIMEZONE
BEGIN:VEVENT
DTSTART;TZID=UTC:20180228T180000
DTEND;TZID=UTC:20180228T200000
DTSTAMP:20260423T193451
CREATED:20180110T165411Z
LAST-MODIFIED:20180110T165411Z
UID:16137-1519840800-1519848000@waterfrontlab.com
SUMMARY:Camden Tech Meetup: Tiffanie Stanard\, Stimulus
DESCRIPTION:Camden Tech Meetup is a monthly gathering\, hosted by Waterfront Ventures. Connect with entrepreneurs and business leaders\, enjoy a fireside chat with top startups and business executives on technology\, trends in startups\, and learn business development skills from the best in their industries! \nJoin the conversation with Tiffanie Stanard\, Founder & CEO of Stimulus\, as we discuss Stanard’s career and how she developed Stimulus\, tips on building a successful company\, and how startups\, businesses\, and organizations can work with large brands like Microsoft and AT&T. \nSpeaker Bio: \nTiffanie Stanard is known for following all of her passions – an anomaly in many sorts because she is a techie\, a creative\, radio personality/producer\, and serial entrepreneur. Tiffanie has won many awards and recognitions including one of the 15 Women Changing the Face of Technology named by the Philadelphia Business Journal and one of the Top 100 Women Visionary Leaders to Watch named by Innov8tiv Magazine. Stanard is the President/CEO of Prestige Concepts (PC)\, an award-winning brand enhancement firm\, specializing in branding and marketing strategies to fuse the organizations for-profit and social impact messaging for customer alignment. Stanard is the Founder/CEO of Stimulus\, a technology\, and media company providing a platform to connect communities to resources and suppliers with cloud-based analytics & intelligence to further community impact. For years\, Tiffanie has brought her trademark personality and passion for national news and entertainment to radio as one of the hosts and producer for Philly Speaks with Radio One\, Inc. Stanard has been a featured speaker for Microsoft\, SXSW\, IBM\, Techweek\, AT&T and more. For more on Tiffanie\, visit: www.TiffanieStanard.com
URL:https://waterfrontlab.com/event/camden-tech-meetup-tiffanie-stanard-stimulus/
LOCATION:Waterfront Lab\, 121 Market St\, Camden\, NJ\, 08102\, United States
CATEGORIES:Community,Entrepreneurship,Meetup,Professional Development,Small Business,Social,Startup,Student,Workshop
ORGANIZER;CN="Waterfront Ventures":MAILTO:melissa@waterfrontlab.com
END:VEVENT
BEGIN:VEVENT
DTSTART;TZID=UTC:20180207T210000
DTEND;TZID=UTC:20180207T230000
DTSTAMP:20260423T193451
CREATED:20180110T165142Z
LAST-MODIFIED:20180110T165142Z
UID:16135-1518037200-1518044400@waterfrontlab.com
SUMMARY:Contracting with Vendors and Suppliers 101
DESCRIPTION:Every business organization enters contracts. Start-ups in particular often need to contract with vendors or suppliers in order to commence and continue business operations. However\, the unwary may fall prey to unfavorable contract terms that could be problematic\, at best\, debilitating\, at worst\, if not identified and negotiated away prior to entering the contract. This presentation will focus on various basic contract terms that start-ups should be familiar with\, as well as some pitfalls to avoid when negotiating and agreeing to a contract with a vendor or supplier. \nSpeaker’s Bio:\nVincent J. Magyar\, Jr. is counsel in the Yardley\, PA office of Hill Wallack LLP. He is licensed to practice law in Pennsylvania and New Jersey and has been in practice since 2005. He is a member of the firm’s corporate\, business\, financial services\, public finance and municipal practice groups. Mr. Magyar regularly consults for profit and not-for-profit business organizations in a variety of corporate and commercial matters\, including\, but not limited to\, business formation and structuring\, mergers and acquisitions\, dissolutions\, asset sales\, shareholder/member/partner agreements\, commercial agreements\, including vendor and software agreements\, debt and equity financings and general advisory. Prior to his legal career\, Mr. Magyar served as an experienced consultant with an international business consulting firm\, focusing on business process improvement and software implementations.
URL:https://waterfrontlab.com/event/contracting-with-vendors-and-suppliers-101-2/
LOCATION:Waterfront Lab\, 121 Market St\, Camden\, NJ\, 08102\, United States
CATEGORIES:Community,Entrepreneurship,Small Business,Social,Startup,Student
ORGANIZER;CN="Waterfront Ventures":MAILTO:melissa@waterfrontlab.com
END:VEVENT
BEGIN:VEVENT
DTSTART;TZID=UTC:20180206T180000
DTEND;TZID=UTC:20180206T200000
DTSTAMP:20260423T193451
CREATED:20180110T164849Z
LAST-MODIFIED:20180110T164849Z
UID:16133-1517940000-1517947200@waterfrontlab.com
SUMMARY:Tech Talks: Podcast Live with The STEM Brothers Podcast
DESCRIPTION:Please join us for an important and informative panel discussion featuring local business and community leaders who will be providing their insight on ways the burgeoning tech community in Camden can effectively partner with the local community to engage young people at the K-12 level and create a pipeline of dynamic home-grown tech talent. \nWhether you are looking at fostering innovative and inventive tech company founders or cultivating a skilled and dedicated employee workforce\, human capital is key to developing and maintaining a successful startup ecosystem. While the need for qualified talent in the tech industry is as competitive as ever\, there are still significant populations in our local communities that are not participants in this sector. \nDuring this discussion\, we will learn what local companies\, educators\, parents and the non-profit community are doing now\, and can do moving forward\, to better inspire and prepare young people to pursue careers in technology. This discussion will be recorded and featured as a special episode of The STEM Brothers Podcast. \nGuest Host: The STEM Brothers Podcast Description\nThe STEM Brothers podcast is a digital audio show that features conversations about the Science\, Technology\, Engineering\, and Math (STEM) related careers associated with the latest news and events impacting our society. Created\, hosted\, and produced by Penn State University College of Engineering graduates and longtime STEM industry professionals Kwesi and Basir Vincent; The STEM Brothers Podcast provides context to the standard STEM content taught in schools by presenting listeners with discussions about the actual professionals who use STEM principles to shape the world around us. Episodes of The STEM Brothers Podcast can be found via Apple Podcasts on iTunes\, Stitcher\, and at stembrotherspodcast.com. \n​
URL:https://waterfrontlab.com/event/tech-talks-podcast-live-with-the-stem-brothers-podcast/
LOCATION:Waterfront Lab\, 121 Market St\, Camden\, NJ\, 08102\, United States
CATEGORIES:Community,Entrepreneurship,Meetup,Professional Development,Small Business,Social,Startup,Student,Workshop
ORGANIZER;CN="Waterfront Ventures":MAILTO:melissa@waterfrontlab.com
END:VEVENT
BEGIN:VEVENT
DTSTART;TZID=UTC:20180131T180000
DTEND;TZID=UTC:20180131T200000
DTSTAMP:20260423T193451
CREATED:20180110T164551Z
LAST-MODIFIED:20180110T164551Z
UID:16131-1517421600-1517428800@waterfrontlab.com
SUMMARY:January Business Mind Meetup: Tackle Challenges\, Share Resources\, and Support Tickets
DESCRIPTION:This Business Mind Meetup will bring together students\, startups\, small businesses\, and community leaders to discuss \n\nBusiness challenges\nLessons learned\nResources\nSupport your community\n\nJoin us for a laid-back night discussing ideas\, solutions\, and how we can collaborate to better our businesses. Make sure to bring your business cards to share\, a notebook to take notes\, and a positive mental attitude to discuss solutions and ideas. \nPlease see our open source notes to see what we’ve discussed so far: https://docs.google.com/presentation/d/1J7Cr31G68Q87lJOwu06kf1wo_ug8DEDuOmDk4WgRbCY/edit?usp=sharing
URL:https://waterfrontlab.com/event/january-business-mind-meetup-tackle-challenges-share-resources-and-support-tickets/
LOCATION:Waterfront Lab\, 121 Market St\, Camden\, NJ\, 08102\, United States
CATEGORIES:Community,Entrepreneurship,Meetup,Professional Development,Small Business,Social,Startup,Student,Workshop
ATTACH;FMTTYPE=image/jpeg:https://waterfrontlab.com/wp-content/uploads/2017/10/Business-Mind-Meetup.jpg
ORGANIZER;CN="Waterfront Ventures":MAILTO:melissa@waterfrontlab.com
END:VEVENT
BEGIN:VEVENT
DTSTART;TZID=UTC:20171219T180000
DTEND;TZID=UTC:20171219T200000
DTSTAMP:20260423T193451
CREATED:20171207T225037Z
LAST-MODIFIED:20171207T225112Z
UID:16119-1513706400-1513713600@waterfrontlab.com
SUMMARY:Waterfront Holiday Party
DESCRIPTION:Join us for our Waterfront Holiday Party! Enjoy drinks and light refreshments! If you would like to bring food or snacks\, please do! The more the merrier! \nWe hope you will join us in celebrating the end of a great year with our members and friends! \nLove\, \nOur Waterfront Team
URL:https://waterfrontlab.com/event/waterfront-holiday-party/
LOCATION:Waterfront Lab\, 121 Market St\, Camden\, NJ\, 08102\, United States
CATEGORIES:Community,Social
ATTACH;FMTTYPE=image/jpeg:https://waterfrontlab.com/wp-content/uploads/2017/12/https_2F2Fcdn.evbuc_.com2Fimages2F381872752F2035729297752F12Foriginal.jpg
ORGANIZER;CN="Waterfront Ventures":MAILTO:melissa@waterfrontlab.com
END:VEVENT
BEGIN:VEVENT
DTSTART;TZID=UTC:20171212T180000
DTEND;TZID=UTC:20171212T200000
DTSTAMP:20260423T193451
CREATED:20171130T165757Z
LAST-MODIFIED:20171130T165757Z
UID:16104-1513101600-1513108800@waterfrontlab.com
SUMMARY:Camden Tech Meetup with Morgan Berman\, MilkCrate
DESCRIPTION:Camden Tech Meetup is a monthly gathering\, hosted by Waterfront Ventures. Connect with entrepreneurs and business leaders\, enjoy a fireside chat with top startups and business executives on technology\, trends in startups\, and learn business development skills from the best in their industries! \nJoin the conversation with Morgan Berman\, CEO of MilkCrate\, as we discuss Berman’s career and how she developed MilkCrate\, tips on building a successful company\, and how to incorporate social impact into your business model. \nMore about our guest: \nBorn and raised in Philadelphia\, Morgan is a multidisciplinary designer whose mission is to promote sustainable design and weave it into the fabric of daily life. She completed her Masters of Science in Sustainable Design at Philadelphia University\, where she focused on interactive and industrial design within the broader context of sustainability. Prior to her work as a sustainability advocate and designer\, she worked as a researcher at the University of Pennsylvania and as an educator/advocate in women’s health.
URL:https://waterfrontlab.com/event/camden-tech-meetup-with-morgan-berman-milkcrate/
LOCATION:Waterfront Lab\, 121 Market St\, Camden\, NJ\, 08102\, United States
CATEGORIES:Community,Entrepreneurship,Meetup,Professional Development,Small Business,Social,Startup,Student,Workshop
ATTACH;FMTTYPE=image/png:https://waterfrontlab.com/wp-content/uploads/2017/11/Camden-Meet-up-Morgan-Berman.png
ORGANIZER;CN="Waterfront Ventures":MAILTO:melissa@waterfrontlab.com
END:VEVENT
BEGIN:VEVENT
DTSTART;TZID=UTC:20171130T180000
DTEND;TZID=UTC:20171130T200000
DTSTAMP:20260423T193451
CREATED:20171025T214635Z
LAST-MODIFIED:20171130T164205Z
UID:16095-1512064800-1512072000@waterfrontlab.com
SUMMARY:Business Mind Meetup
DESCRIPTION:This Business Mind Meetup will bring together students\, startups\, small businesses\, and community leaders to discuss \n\nBusiness challenges\nLessons learned\nResources\nSupport your community\n\nJoin us for a laid-back night discussing ideas\, solutions\, and how we can collaborate to better our businesses. Make sure to bring your business cards to share\, a notebook to take notes\, and a positive mental attitude to discuss solutions and ideas. \nPlease see our open source notes to see what we’ve discussed so far: https://docs.google.com/presentation/d/1JUWFnMx7nu7ysLSkGC8PD_B-4vxt6_3d1ZhCkQSuUm8/edit?usp=sharing
URL:https://waterfrontlab.com/event/business-mind-meetup/
LOCATION:Waterfront Lab\, 121 Market St\, Camden\, NJ\, 08102\, United States
CATEGORIES:Community,Entrepreneurship,Meetup,Professional Development,Small Business,Social,Startup,Student,Workshop
ATTACH;FMTTYPE=image/jpeg:https://waterfrontlab.com/wp-content/uploads/2017/10/Business-Mind-Meetup.jpg
ORGANIZER;CN="Waterfront Ventures":MAILTO:melissa@waterfrontlab.com
END:VEVENT
BEGIN:VEVENT
DTSTART;TZID=UTC:20171014T090000
DTEND;TZID=UTC:20171014T180000
DTSTAMP:20260423T193451
CREATED:20170831T210928Z
LAST-MODIFIED:20170831T210928Z
UID:16042-1507971600-1508004000@waterfrontlab.com
SUMMARY:Camden Catalyst - Tech Startup Pitch Competition
DESCRIPTION:Registration to pitch for Camden Catalyst is officially closed.\nAll applicants please note that the date has been moved from 9/16/17 to 10/14/17. \nCamden Catalyst is a 2 Part event. \n10/14/17 – Camden Catalyst Pitch Competition\nThis is the official PITCH Competition day where startups will pitch in 3 Rounds in order to qualify for the Final Round. All Applicants are required to attend this date. You are welcome to bring your friends/family to this event as it is a FREE event. \n10/20/17 – Final Round + Award Ceremony\nThis is the Final Round + Award Ceremony. The final 4 startups will pitch on this date and the winner will be decided on LIVE TV. This is an exclusive invitation only event with city officials\, investors\, CEO of fortune 500 companies in Camden\, and innovators on either side of the bridge. Ticket to this event is $125. We want to give the winning startup $25\,000 prize and also give them the press and connections they need in order to succeed in Camden. \nAbout the Competition\nJoin us for an entire day of Pitching Competition in Camden NJ. On October 14\, 2017\, Waterfront Ventures is hosting Camden Catalyst\, a Startup Pitch Competition with a prize pool of $25\,000. The competition is open to ALL startups and students in Camden and all neighboring areas. \nComing up with an idea for your startup is easy\, building a team to get things going is hard\, finding initial capital to kickstart your idea is often challenging. That’s why we created Camden Catalyst – a Pitch Competition with the goal of helping students and young startups succeed. \nFor more information\, visit our website. \n \nWho are we? \nWe’re a group of innovators who want to make Camden a better place for motivated students and entrepreneurs to thrive and succeed. If we can help create successful companies in Camden\, more jobs and opportunities will open up for students and residents. \nIt’s our dream to see Camden transform into a vibrant city full of opportunities for startups\, students\, and residents. We plan to bring opportunities into Camden by providing resources and funding for startups to grow inside the city and incentives for startups on the outside to join. \nOn March 24th at 2:00PM\, we decided to create a Pitch Competition with a prize pool of $25\,000 to help stir the Startup community. Our goal is to help startups get off the ground and establish a headquarter in Camden\, where they will grow and provide internship\, jobs\, and opportunities in the near future. \nRequirements: \n1. Must be a NEW idea (cannot be an existing startup) \n2. Must be a Tech Startup \n3. Winning Startup must open open their headquarter in Camden \n4. Startup must hire their first employee from Camden \n5. Startup’s workforce must be at least 50% Camden city resident/students. \nSchedule \n7/14/17 – Applications Due at 5:00PM US Eastern time (DEADLINE EXTENDED) \n7/21/17 – Pitch Competition Tryouts / Feedback \n8/17/17 – Preliminary Pitch Round \n10/14/17 – Camden Catalyst Pitch Competition \n10/20/17 – Final Round + Award Ceremony \nIn order to Apply\, you must first grab a Free Ticket AND submit their application at http://camdencatalyst.com. Spot is limited to the 1st 100 that applies. All Applicants will need to past a screening call.
URL:https://waterfrontlab.com/event/camden-catalyst-tech-startup-pitch-competition/
LOCATION:Waterfront Technology Center\, 200 Federal St\, Camden\, NJ\, 08103\, United States
CATEGORIES:Community,Entrepreneurship,Small Business,Social,Startup,Student
ORGANIZER;CN="Waterfront Ventures":MAILTO:melissa@waterfrontlab.com
END:VEVENT
BEGIN:VEVENT
DTSTART;TZID=UTC:20170929T080000
DTEND;TZID=UTC:20170929T220000
DTSTAMP:20260423T193451
CREATED:20170831T205945Z
LAST-MODIFIED:20170919T155245Z
UID:16035-1506672000-1506722400@waterfrontlab.com
SUMMARY:Breakfast with Titans: Chris Kuenne\, Built for Growth
DESCRIPTION:In collaboration with NJ Tech Council\, Waterfront Ventures is hosting Breakfast with Titans with Chris Kuenne\, Founder of Rosemark Capital and author of Wall Street Journal Best Seller\, Built for Growth \nOur Honored Speaker – Chris Kuenne – Entrepreneur\, Investor\, and Princeton faculty \n \nChris Kuenne is the founder of Rosetta and Rosemark Capital\, entrepreneurship faculty at Princeton University\, and co-author of Built for Growth: How Builder Personality Shapes Your Business\, Your Team\, and Your Ability to Win (to be published June 6th\, 2017 via Harvard Business Review Press). \nBreakfast Topic: \nBUILT FOR GROWTH — How Builder Personality Shapes Your Business\, Your Team\, and Your Ability to Win. \n \nOur research identified 4 distinct types of highly successful business builders: The Driver\, Explorer\, Crusader\, and Captain. Each builds businesses of scale in markedly different ways. We’ll discuss how understanding your personal Builder Type — that is\, the particular combination of beliefs and preferences that drive your motivation\, decision-making\, and leadership style — can help you select the right team\, early customers and financial sponsors for maximum impact. Determine your Builder Type: take the quiz at www.builtforgrowth.com \nBuy the book: BUILT FOR GROWTH (From Amazon) \nSponsors for Breakfast with Titans:
URL:https://waterfrontlab.com/event/breakfast-with-titans-chris-kuenne-built-for-growth/
LOCATION:Waterfront Lab\, 121 Market St\, Camden\, NJ\, 08102\, United States
CATEGORIES:Community,Entrepreneurship,Professional Development,Small Business,Social,Startup
ORGANIZER;CN="Waterfront Ventures":MAILTO:melissa@waterfrontlab.com
END:VEVENT
BEGIN:VEVENT
DTSTART;TZID=UTC:20170914T180000
DTEND;TZID=UTC:20170914T200000
DTSTAMP:20260423T193451
CREATED:20170831T210555Z
LAST-MODIFIED:20170831T210555Z
UID:16040-1505412000-1505419200@waterfrontlab.com
SUMMARY:Mobile Apps for Bootstrappers: Intro to Cross Platform Mobile App with React Native
DESCRIPTION:This workshop will provide a technically focused introduction to building a cross platform (iOS and Android) mobile applications using React Native. In addition\, Robert will provide some notes on his experience using React Native to build and release an app to the App/Play stores. \nThis workshop is intended for software developers interested in learning the basics of React Native and/or considering using it for future projects. A working knowledge of Javascript\, Node.js and NPM will be required to work through the workshop activities. \nThe workshop will cover: \n\nStarting a React Native Project and Application Structure (Folder and Files)\nReact basics\, JSX\, and React Native Components.\nLayout with Flexbox\nGetting Data from APIs\nStyling with CSS\nUsing third party packages\n\nAt the end of the workshop we will have built a fully functional mobile application. \nMore about the Speaker: \nRobert Rupp is currently a software engineer at EaseCentral\, a San Francisco based SaaS company\, that provides web based solutions to small group insurance brokers. \nRobert has 6 years of software development experience primarily focused on desktop and web based business applications\, and recently released a cross platform React Native mobile application: “Speedline” (speedlineapp.com)\, a PATCO Schedule app.
URL:https://waterfrontlab.com/event/mobile-apps-for-bootstrappers-intro-to-cross-platform-mobile-app-with-react-native/
LOCATION:Waterfront Lab\, 121 Market St\, Camden\, NJ\, 08102\, United States
CATEGORIES:Community,Entrepreneurship,Meetup,Social,Student,Workshop
ORGANIZER;CN="Waterfront Ventures":MAILTO:melissa@waterfrontlab.com
END:VEVENT
BEGIN:VEVENT
DTSTART;TZID=UTC:20170722T133000
DTEND;TZID=UTC:20170722T153000
DTSTAMP:20260423T193451
CREATED:20170626T221040Z
LAST-MODIFIED:20170712T201123Z
UID:15892-1500730200-1500737400@waterfrontlab.com
SUMMARY:You Can Code!!
DESCRIPTION:Come learn the very basics of coding! In this workshop\, the girls will use Blockly\, a drag and drop language to interface with the memory of the computer. They will be trying a number of puzzles\, mazes and games to explore sequential events\, selection and repetition. Students will also begin to learn to code using real language with CodinGame\, a free online program that allows coders at any stage to improve their coding skills by solving the World’s most challenging problems\, learn new concepts\, and get inspired by the best developers. After\, students will be able to access these web pages and more at home to continue their learning. \nPLEASE BRING YOUR OWN LAPTOP OR DEVICE IF YOU HAVE ONE \nContact: Melissa Le with any questions\, thank you!
URL:https://waterfrontlab.com/event/you-can-code/
LOCATION:Waterfront Lab\, 121 Market St\, Camden\, NJ\, 08102\, United States
CATEGORIES:Community,Professional Development,Social,Student,Workshop
ATTACH;FMTTYPE=image/jpeg:https://waterfrontlab.com/wp-content/uploads/2017/06/TechGirlz_2-2.jpg
END:VEVENT
BEGIN:VEVENT
DTSTART;TZID=UTC:20170630T090000
DTEND;TZID=UTC:20170630T170000
DTSTAMP:20260423T193451
CREATED:20170604T003739Z
LAST-MODIFIED:20170630T082849Z
UID:15799-1498813200-1498842000@waterfrontlab.com
SUMMARY:Social Media Day New Jersey 2017
DESCRIPTION:We’re excited to announce that New Jersey leaders in innovation\, digital/social marketing\, business\, community\, and technology will kick off Mashable’s Social Media Day 2017 in the Garden State! We’re looking to New Jersey’s finest to help make #SMDayNJ 2017 an educational\, fun and informative social media extravaganza\, an event the New Jersey digital and tech scene will look forward to in years to come!\nFeaturing keynote speakers\, panel talks\, information tables and demos from all industries and business sectors. Covering topics from the latest tools for creating digital and social content to case studies and best practices in integrating social/digital media and technology into your business communications and brand marketing initiatives. Panel segments will include the following industries and topics: \nTOPICS: \n\nTechnology/Tools in Social/Digital media\nContent Creation and Social Media Best Practices\nAnalytics and Paid Social Media – Determining KPIs\n\nINDUSTRIES \n\nFinancial / Business / Manufacturing\nGovernment / Non-Profit / Community\nNews / Arts / Sports & Entertainment\nHospitality / Retail / CPG\nEducation/Healthcare/Science
URL:https://waterfrontlab.com/event/social-media-day-new-jersey-2017/
LOCATION:Waterfront Technology Center\, 200 Federal St\, Camden\, NJ\, 08103\, United States
CATEGORIES:Community,Entrepreneurship,Small Business,Social,Startup,Student
ATTACH;FMTTYPE=image/jpeg:https://waterfrontlab.com/wp-content/uploads/2017/06/https-2F2Fcdn.evbuc_.com2Fimages2F317392812F9700783452F12Foriginal-1.jpg
ORGANIZER;CN="Social Media Day New Jersey":MAILTO:nichelle@brandenchanting.com
END:VEVENT
BEGIN:VEVENT
DTSTART;TZID=UTC:20170616T100000
DTEND;TZID=UTC:20170616T170000
DTSTAMP:20260423T193451
CREATED:20170604T004242Z
LAST-MODIFIED:20170604T004242Z
UID:15805-1497607200-1497632400@waterfrontlab.com
SUMMARY:Free Coworking Day
DESCRIPTION:Join the awesome community at Waterfront Lab for free coworking day! \nWaterfront Lab is a Class A Coworking Space\, Innovation Hub and Community Center. As part of the Camden Revitalization Program\, Waterfront Lab provides office and event space for startups and business owners to grow their businesses at the Camden Waterfront. \nCome check out our space and learn about all of our great amenities\, events\, programs and how you can join our amazing community of movers and shakers. Enjoy a tour of our space and an introduction to our members.
URL:https://waterfrontlab.com/event/free-coworking-day/
LOCATION:Waterfront Lab\, 121 Market St\, Camden\, NJ\, 08102\, United States
CATEGORIES:Community,Entrepreneurship,Small Business,Social,Startup,Student
ORGANIZER;CN="Waterfront Ventures":MAILTO:melissa@waterfrontlab.com
END:VEVENT
END:VCALENDAR