BEGIN:VCALENDAR
VERSION:2.0
PRODID:-//Waterfront Lab - ECPv6.15.10//NONSGML v1.0//EN
CALSCALE:GREGORIAN
METHOD:PUBLISH
X-WR-CALNAME:Waterfront Lab
X-ORIGINAL-URL:https://waterfrontlab.com
X-WR-CALDESC:Events for Waterfront Lab
REFRESH-INTERVAL;VALUE=DURATION:PT1H
X-Robots-Tag:noindex
X-PUBLISHED-TTL:PT1H
BEGIN:VTIMEZONE
TZID:UTC
BEGIN:STANDARD
TZOFFSETFROM:+0000
TZOFFSETTO:+0000
TZNAME:UTC
DTSTART:20160101T000000
END:STANDARD
END:VTIMEZONE
BEGIN:VEVENT
DTSTART;TZID=UTC:20170621T180000
DTEND;TZID=UTC:20170621T200000
DTSTAMP:20260423T234608
CREATED:20170603T235418Z
LAST-MODIFIED:20170603T235418Z
UID:15794-1498068000-1498075200@waterfrontlab.com
SUMMARY:Kickstart on Kickstarter: How to Crowdfund with Jonathan Ferrer\, Brew Watches
DESCRIPTION:When it comes to building your business\, accessing funding is one of the key components to staying in business and succeeding. With the power of modern technology\, crowdfunding platforms\, such as Kickstarters\, Indiegogo\, and more\, makes it possible to finance your early stage businesses\, as an alternative to loans\, grants\, and equity investments. \nJonathan Ferrer grew his espresso machine inspired watch brand\, Brew Watches\, on Kickstarter and he is here to share with you his secrets! With raising over $75\,000 on Kickstarter\, Jonathan was able to fund his business\, market his brand\, and connect with a community invested in his success! \nJoin entrepreneurs and young startups to learn about how Jonathan grew Brew Watches and how to kickstart your business on Kickstarters! \nSponsored by Waterfront Ventures\, Waterfront Lab\, Owner’s Magazine\, Camden Catalyst and Hill and Wallack LLP.
URL:https://waterfrontlab.com/event/kickstart-on-kickstarter-how-to-crowdfund-with-jonathan-ferrer-brew-watches/
LOCATION:Waterfront Lab\, 121 Market St\, Camden\, NJ\, 08102\, United States
CATEGORIES:Entrepreneurship,Professional Development,Small Business,Startup,Student,Workshop
ORGANIZER;CN="Waterfront Ventures":MAILTO:melissa@waterfrontlab.com
END:VEVENT
BEGIN:VEVENT
DTSTART;TZID=UTC:20170616T100000
DTEND;TZID=UTC:20170616T170000
DTSTAMP:20260423T234608
CREATED:20170604T004242Z
LAST-MODIFIED:20170604T004242Z
UID:15805-1497607200-1497632400@waterfrontlab.com
SUMMARY:Free Coworking Day
DESCRIPTION:Join the awesome community at Waterfront Lab for free coworking day! \nWaterfront Lab is a Class A Coworking Space\, Innovation Hub and Community Center. As part of the Camden Revitalization Program\, Waterfront Lab provides office and event space for startups and business owners to grow their businesses at the Camden Waterfront. \nCome check out our space and learn about all of our great amenities\, events\, programs and how you can join our amazing community of movers and shakers. Enjoy a tour of our space and an introduction to our members.
URL:https://waterfrontlab.com/event/free-coworking-day/
LOCATION:Waterfront Lab\, 121 Market St\, Camden\, NJ\, 08102\, United States
CATEGORIES:Community,Entrepreneurship,Small Business,Social,Startup,Student
ORGANIZER;CN="Waterfront Ventures":MAILTO:melissa@waterfrontlab.com
END:VEVENT
END:VCALENDAR